BEGIN:VCALENDAR
VERSION:2.0
PRODID:-//אלכס ביטון - ECPv6.15.20//NONSGML v1.0//EN
CALSCALE:GREGORIAN
METHOD:PUBLISH
X-WR-CALNAME:אלכס ביטון
X-ORIGINAL-URL:https://alexbitton.co.il
X-WR-CALDESC:Events for אלכס ביטון
REFRESH-INTERVAL;VALUE=DURATION:PT1H
X-Robots-Tag:noindex
X-PUBLISHED-TTL:PT1H
BEGIN:VTIMEZONE
TZID:Asia/Jerusalem
BEGIN:DAYLIGHT
TZOFFSETFROM:+0200
TZOFFSETTO:+0300
TZNAME:IDT
DTSTART:20250328T000000
END:DAYLIGHT
BEGIN:STANDARD
TZOFFSETFROM:+0300
TZOFFSETTO:+0200
TZNAME:IST
DTSTART:20251025T230000
END:STANDARD
BEGIN:DAYLIGHT
TZOFFSETFROM:+0200
TZOFFSETTO:+0300
TZNAME:IDT
DTSTART:20260327T000000
END:DAYLIGHT
BEGIN:STANDARD
TZOFFSETFROM:+0300
TZOFFSETTO:+0200
TZNAME:IST
DTSTART:20261024T230000
END:STANDARD
BEGIN:DAYLIGHT
TZOFFSETFROM:+0200
TZOFFSETTO:+0300
TZNAME:IDT
DTSTART:20270326T000000
END:DAYLIGHT
BEGIN:STANDARD
TZOFFSETFROM:+0300
TZOFFSETTO:+0200
TZNAME:IST
DTSTART:20271030T230000
END:STANDARD
END:VTIMEZONE
BEGIN:VEVENT
DTSTART;TZID=Asia/Jerusalem:20260428T100000
DTEND;TZID=Asia/Jerusalem:20260428T110000
DTSTAMP:20260424T130120
CREATED:20260406T071258Z
LAST-MODIFIED:20260406T071258Z
UID:45276-1777370400-1777374000@alexbitton.co.il
SUMMARY:צילום וידאו סינמטי עם אבירם ביטון
DESCRIPTION:המאסטרקלאס הזה מחולק ל2 מפגשים. \nבמפגש הזה (1/2) אבירם ילמד איך לגשת לצילום וידאו בצורה מסודרת וברורה –איך לקחת רעיון ולהפוך אותו לסרטון שנראה מקצועי\, מחובר ועם כיוון. \nזה לא עוד “לצלם מה שיוצא”\, אלא להבין מראש מה מצלמים\, למה מצלמים\, ואיך כל שוט נכנס לתוך הסיפור. \nמה מחכה לך בפנים?\n\nאיך לחשוב על רעיון לסרטון ולתרגם אותו לצילום בפועל\nאיך לתכנן מראש את הצילום כדי לא לאלתר תוך כדי\nאיך לבחור פריימים ושוטים בצורה נכונה\nאיך לצלם בצורה שמרגישה יותר מקצועית ופחות אקראית\nבסיס נכון לעבודה עם תאורה\nאיך לייצר רצף צילומים שמתחבר לסיפור אחד ברור\n\nעם מה תצאו?\n\nהבנה ברורה של איך לגשת לצילום וידאו\nסדר בראש לגבי מה מצלמים ובאיזה סדר\nכלים שיעזרו לך לצלם בצורה מדויקת יותר כבר מהפעם הבאה\n\nזה הבסיס שגורם לוידאו להיראות כמו משהו מתוכנן ולא כמו אוסף קטעים.
URL:https://alexbitton.co.il/event/%d7%a6%d7%99%d7%9c%d7%95%d7%9d-%d7%95%d7%99%d7%93%d7%90%d7%95-%d7%a1%d7%99%d7%a0%d7%9e%d7%98%d7%99-%d7%a2%d7%9d-%d7%90%d7%91%d7%99%d7%a8%d7%9d-%d7%91%d7%99%d7%98%d7%95%d7%9f/
LOCATION:zoom
ATTACH;FMTTYPE=image/jpeg:https://alexbitton-il.s3.il-central-1.amazonaws.com/IMG_8372.jpg
END:VEVENT
BEGIN:VEVENT
DTSTART;TZID=Asia/Jerusalem:20260430T103000
DTEND;TZID=Asia/Jerusalem:20260430T140000
DTSTAMP:20260424T130120
CREATED:20260406T091028Z
LAST-MODIFIED:20260406T092118Z
UID:45288-1777545000-1777557600@alexbitton.co.il
SUMMARY:סדנת חיבורים עם שון טויל (סדנה פרונטלית)
DESCRIPTION:אם יש בך חלק שיודע שאת מסוגלת להרבה יותראבל שוב ושוב משהו עוצר\, סוגר\, מכווץ או מחזיר אותך לאותו מקום…כנראה שהגיע הזמן לפגוש את מה שיושב מתחת. \nלא עוד ידע.לא עוד קורס.לא עוד “לעבוד על עצמך” דרך הראש. \nאלא מקום אחר. \nמקום שפוגש את מה שהגוף מחזיק.את מה שהלב כבר יודע.ואת הסיפורים הפנימיים שעד היום ניהלו אותך —אולי בלי שבכלל שמת לב. \nסדנת חיבורים היא מפגש אינטימי\, עמוק ופרונטלי\,\nשנועד לעזור לך לעצור רגע\, לרדת מהעשייה והחומר —ולהתחבר חזרה לעצמך. \nלא דרך תיאוריה.דרך חוויה. \nמה קורה בפנים?\nבמהלך הסדנה\, שון יוביל תהליך עדין ומדויק שיאפשר לך להתחיל לזהות: \n\nמה את סוחבת בגוף כבר שנים\nאיזה סיפור פנימי את ממשיכה להאמין לו\nאיפה משהו בך עדיין סגור\, דרוך או חסום\nואיך מתחילים לפתוח את זה מבפנים\n\nנעבוד דרך גוף\, כתיבה\, הקשבה\, חקירה פנימית ותהליך רגשי\,כדי לפגוש את המקומות שלא תמיד יש לנו זמן\, אומץ או שקט לעצור ולראות. \nלמי זה מתאים?\n\nלמי שמרגישה שמשהו בה תקוע\nלמי שעשתה כבר עבודה על עצמה\, אבל עדיין מרגישה שיש עוד שכבה\nלמי שחווה פחד\, כיווץ\, סגירות\, עומס רגשי או קושי לזוז קדימה\nלמי שרוצה להרגיש\, לא רק להבין\n\nעם מה תצאי?\nלא עם “פתרונות קסם”.ולא עם עוד רשימת משימות לחיים. \nאלא עם משהו הרבה יותר חשוב: \n\nתחושת פתיחה\nחיבור מחודש לעצמך\nשקט במקום שהיה בו עומס\nאור במקום שהיה סגור\nומגע אמיתי עם חלק בתוכך שאולי הרבה זמן לא קיבל מקום\n\nולפעמים\, זה בדיוק מה שצריךכדי שמשהו יתחיל לזוז. \nלא כי מישהו “תיקן” אותך —אלא כי משהו שהיה חסום בפנים\,סוף סוף קיבל מקום להיפתח. ❤️ \n📍 סדנה פרונטלית לקהילת Unlimited🌿 גינה קסומה בכרכור משעה 10:30 עד 14:00👥 10 מקומות בלבד💸 99 ש”ח במקום 270 \nסדנה לנשים בלבד!! \nאיך נרשמים: \nאת התשלום יש להעביר ישירות לשון בביט למספר: 0504999202 \nולהירשם כאן בתחתית העמוד על מנת לשריין את המקום שלך!!!
URL:https://alexbitton.co.il/event/%d7%a1%d7%93%d7%a0%d7%aa-%d7%97%d7%99%d7%91%d7%95%d7%a8%d7%99%d7%9d-%d7%a2%d7%9d-%d7%a9%d7%95%d7%9f-%d7%98%d7%95%d7%99%d7%9c-%d7%a1%d7%93%d7%a0%d7%94-%d7%a4%d7%a8%d7%95%d7%a0%d7%98%d7%9c%d7%99%d7%aa/
LOCATION:פרדס חנה כרכור
ATTACH;FMTTYPE=image/jpeg:https://alexbitton-il.s3.il-central-1.amazonaws.com/IMG_5570.jpg
END:VEVENT
BEGIN:VEVENT
DTSTART;TZID=Asia/Jerusalem:20260503T140000
DTEND;TZID=Asia/Jerusalem:20260503T170000
DTSTAMP:20260424T130120
CREATED:20260406T080557Z
LAST-MODIFIED:20260406T094345Z
UID:45284-1777816800-1777827600@alexbitton.co.il
SUMMARY:סדנת צילומי זוגיות אורבניים עם אלכס ביטון (סדנה פרונטלית)
DESCRIPTION:| זכרון יעקב | 14:00–17:00 \nמפגש צילום פרונטלי בן 3 שעות בלב הסמטאות של זכרון יעקב\,לסדנת זוגיות באווירה אורבנית\, סינמטית ומלאת אופי. \nבמהלך המפגש\, אלכס תדגים איך היא ניגשת לצילומי זוגיות בלוקיישן עירוני \nאיך לעבוד נכון עם תאורת צהריים\, איך לזהות ולבנות קומפוזיציות חזקות בתוך הרחוב\, ואיך להנחות זוג בצורה שמרגישה טבעית\, יפה ולא מאולצת. \nמה מחכה לך בפנים?\n\nאיך לצלם זוג בתוך סביבה אורבנית בצורה שמרגישה קולנועית ולא “סתם ברחוב”\nאיך לעבוד עם האור הקשה של אמצע היום ולהפוך אותו ליתרון\nאיך למצוא פריימים\, שכבות וקומפוזיציות מעניינות בלוקיישן עירוני\nאיך להנחות זוג בצורה שתוציא מהם חיבור\, נוכחות וכימיה אמיתית\nואיך להפוך לוקיישן רגיל לתוצאה עם וייב\, עומק וסטייל\n\nלמי זה מתאים?\n\nלמי שרוצה לשדרג את צילומי הזוגיות שלה\nלמי שמרגישה שהיא נתקעת בלוקיישנים עירוניים\nלמי שרוצה ללמוד איך ליצור תמונות עם יותר אופי\, סטייל וסיפור\n\nעם מה תצאי?\n\nעם הסתכלות אחרת על צילום זוגיות\nעם כלים פרקטיים לצילום אורבני מדויק יותר\nועם השראה אמיתית לצילומים הבאים שלך\n\n📍 מפגש צילום פרונטלי | 3 שעות🕑 מתחילים ב־14:00📍 זכרון יעקב💸 350 ש”ח לחברי הקהילה (במקום 990 ש״ח) \nאיך נרשמים? \nמבצעים תשלום בקישור כאן  \nוזהו אתם בפנים! \nמוגבל ל15 משתתפים בלבד!!!
URL:https://alexbitton.co.il/event/%d7%a1%d7%93%d7%a0%d7%aa-%d7%a6%d7%99%d7%9c%d7%95%d7%9e%d7%99-%d7%96%d7%95%d7%92%d7%99%d7%95%d7%aa-%d7%90%d7%95%d7%a8%d7%91%d7%a0%d7%99%d7%99%d7%9d-%d7%a2%d7%9d-%d7%90%d7%9c%d7%9b%d7%a1-%d7%91%d7%99/
LOCATION:זכרון יעקב
ATTACH;FMTTYPE=image/jpeg:https://alexbitton-il.s3.il-central-1.amazonaws.com/423A2365-Edit-scaled.jpg
END:VEVENT
BEGIN:VEVENT
DTSTART;TZID=Asia/Jerusalem:20260512T100000
DTEND;TZID=Asia/Jerusalem:20260512T110000
DTSTAMP:20260424T130120
CREATED:20260406T071734Z
LAST-MODIFIED:20260406T080136Z
UID:45279-1778580000-1778583600@alexbitton.co.il
SUMMARY:עריכת וידאו סינמטי עם אבירם ביטון
DESCRIPTION:מפגש המשך ממאסטרקלאס קודם (2/2) \nאבירם יראה איך לקחת את כל מה שצולם בשיעור הקודם ולחבר אותו לסרטון אחד ברור\, זורם ומדויק. \nזה השלב שבו מבינים מה נכנס\, מה נשאר בחוץ\, ואיך בונים סרטון שאנשים באמת רוצים לראות עד הסוף. \nמה מחכה לך בפנים?\n\nאיך לבחור נכון את הקטעים מתוך כל החומר\nאיך לבנות סדר הגיוני לסרטון\nאיך לעבוד עם מוזיקה וקצב בצורה נכונה\nאיך לחבר בין שוטים בצורה חלקה\nבסיס לצבע ולמראה אחיד של הסרטון\nאיך להפוך חומר גלם לסרטון שלם ומדויק\n\nעם מה תצאו?\n\nהבנה של איך עורכים סרטון בצורה נכונה\nכלים פרקטיים לעבודה פשוטה וברורה יותר בעריכה\nיכולת לקחת חומר שצילמת ולהפוך אותו למשהו שמרגיש גמור
URL:https://alexbitton.co.il/event/%d7%a2%d7%a8%d7%99%d7%9b%d7%aa-%d7%95%d7%99%d7%93%d7%90%d7%95-%d7%a1%d7%99%d7%a0%d7%9e%d7%98%d7%99-%d7%a2%d7%9d-%d7%90%d7%91%d7%99%d7%a8%d7%9d-%d7%91%d7%99%d7%98%d7%95%d7%9f/
LOCATION:zoom
ATTACH;FMTTYPE=image/jpeg:https://alexbitton-il.s3.il-central-1.amazonaws.com/IMG_8372.jpg
END:VEVENT
END:VCALENDAR